BEGIN:VCALENDAR
VERSION:2.0
PRODID:-//Busselton Hospice Care Inc - ECPv6.3.3.1//NONSGML v1.0//EN
CALSCALE:GREGORIAN
METHOD:PUBLISH
X-ORIGINAL-URL:https://dev.busseltonhospicecareinc.org.au
X-WR-CALDESC:Events for Busselton Hospice Care Inc
REFRESH-INTERVAL;VALUE=DURATION:PT1H
X-Robots-Tag:noindex
X-PUBLISHED-TTL:PT1H
BEGIN:VTIMEZONE
TZID:Australia/Perth
BEGIN:STANDARD
TZOFFSETFROM:+0800
TZOFFSETTO:+0800
TZNAME:AWST
DTSTART:20240101T000000
END:STANDARD
END:VTIMEZONE
BEGIN:VEVENT
DTSTART;TZID=Australia/Perth:20241012T180000
DTEND;TZID=Australia/Perth:20241012T180000
DTSTAMP:20260422T104056
CREATED:20240118T025610Z
LAST-MODIFIED:20240118T025818Z
UID:254698-1728756000-1728756000@dev.busseltonhospicecareinc.org.au
SUMMARY:BHCI Ball / Gala
DESCRIPTION:Save the date! Scheduled for Saturday 12th October\, 2024 – 6:00pm ‘til late – Venue:  Sabina River Farm\, 213 Wonnerup South Road\, Yalyalup  WA 6280 – ticket information to be confirmed
URL:https://dev.busseltonhospicecareinc.org.au/event/bhci-ball-gala/
LOCATION:Sabina River Farm\, 213 Wonnerup South Road\, Yalyalup\, Western Australia\, 6280\, Australia
CATEGORIES:Annual Events
ATTACH;FMTTYPE=image/jpeg:https://dev.busseltonhospicecareinc.org.au/wp-content/uploads/2024/01/BHCI-Ball.jpg
END:VEVENT
END:VCALENDAR